BEGIN:VCALENDAR
VERSION:2.0
PRODID:-//Future Mobility Campus Ireland - ECPv6.15.16//NONSGML v1.0//EN
CALSCALE:GREGORIAN
METHOD:PUBLISH
X-ORIGINAL-URL:https://fmci.ie
X-WR-CALDESC:Events for Future Mobility Campus Ireland
REFRESH-INTERVAL;VALUE=DURATION:PT1H
X-Robots-Tag:noindex
X-PUBLISHED-TTL:PT1H
BEGIN:VTIMEZONE
TZID:Europe/Dublin
BEGIN:STANDARD
TZOFFSETFROM:+0000
TZOFFSETTO:+0100
TZNAME:IST
DTSTART:20250330T010000
END:STANDARD
BEGIN:DAYLIGHT
TZOFFSETFROM:+0100
TZOFFSETTO:+0000
TZNAME:GMT
DTSTART:20251026T010000
END:DAYLIGHT
BEGIN:STANDARD
TZOFFSETFROM:+0000
TZOFFSETTO:+0100
TZNAME:IST
DTSTART:20260329T010000
END:STANDARD
BEGIN:DAYLIGHT
TZOFFSETFROM:+0100
TZOFFSETTO:+0000
TZNAME:GMT
DTSTART:20261025T010000
END:DAYLIGHT
BEGIN:STANDARD
TZOFFSETFROM:+0000
TZOFFSETTO:+0100
TZNAME:IST
DTSTART:20270328T010000
END:STANDARD
BEGIN:DAYLIGHT
TZOFFSETFROM:+0100
TZOFFSETTO:+0000
TZNAME:GMT
DTSTART:20271031T010000
END:DAYLIGHT
END:VTIMEZONE
BEGIN:VEVENT
DTSTART;TZID=Europe/Dublin:20260423T100000
DTEND;TZID=Europe/Dublin:20260423T160000
DTSTAMP:20260422T001645
CREATED:20260219T122829Z
LAST-MODIFIED:20260227T163432Z
UID:5552-1776938400-1776960000@fmci.ie
SUMMARY:Irish Automotive Summit
DESCRIPTION:FMCI is hosting the first Irish Automotive Summit to connect industry players\, spotlight innovation\, and reveal the true breadth of what’s happening in Ireland. \nIreland’s automotive ecosystem is bigger and more interconnected than many realise\, with players spanning every step of the supply chain.  Think everything from manufacturing to ADAS software development to fleet management and public transit optimisation. This event aims to bring them all under one roof. \nOur discovery-driven industry icebreaker will feature hands-on demonstrations\, meaningful conversations\, and high-impact connections across Ireland’s automotive sector. \n  \nInvitation only. Please contact us for more details.
URL:https://fmci.ie/event/irish-automotive-summit-2026/
LOCATION:Future Mobility Campus Ireland\, FMCI\, Bay 80\, Shannon Free Zone\, Shannon\, Shannon\, Co. Clare\, V14WV82\, Ireland
ATTACH;FMTTYPE=image/png:https://fmci.ie/wp-content/uploads/2026/02/IRISH-AUTOMOTIVE-SUMMIT-2-1.png
END:VEVENT
END:VCALENDAR